<?xml version="1.0" encoding="UTF-8"?>
<metadata xml:lang="en"><Esri><CreaDate>20130312</CreaDate><CreaTime>12012800</CreaTime><ArcGISFormat>1.0</ArcGISFormat><ArcGISstyle>FGDC CSDGM Metadata</ArcGISstyle><SyncOnce>FALSE</SyncOnce><DataProperties><itemProps><itemName Sync="TRUE">trimWebb Lake.tif</itemName><itemLocation><linkage Sync="TRUE">file://Y:\sde\maps\public\antarctica\usgs\02\trimWebb Lake.tif</linkage><protocol Sync="TRUE">Local Area Network</protocol></itemLocation><imsContentType Sync="TRUE">002</imsContentType><nativeExtBox><westBL Sync="TRUE">24161.684085</westBL><eastBL Sync="TRUE">49279.499901</eastBL><southBL Sync="TRUE">54978.768236</southBL><northBL Sync="TRUE">83504.947292</northBL><exTypeCode Sync="TRUE">1</exTypeCode></nativeExtBox></itemProps><coordRef><type Sync="TRUE">Projected</type><geogcsn Sync="TRUE">GCS_WGS_1972</geogcsn><csUnits Sync="TRUE">Linear Unit: Meter (1.000000)</csUnits><projcsn Sync="TRUE">WGS_1972_Lambert_Conformal_Conic_meters</projcsn><peXml Sync="TRUE">&lt;ProjectedCoordinateSystem xsi:type='typens:ProjectedCoordinateSystem' xmlns:xsi='http://www.w3.org/2001/XMLSchema-instance' xmlns:xs='http://www.w3.org/2001/XMLSchema' xmlns:typens='http://www.esri.com/schemas/ArcGIS/10.1'&gt;&lt;WKT&gt;PROJCS[&amp;quot;WGS_1972_Lambert_Conformal_Conic_meters&amp;quot;,GEOGCS[&amp;quot;GCS_WGS_1972&amp;quot;,DATUM[&amp;quot;D_WGS_1972&amp;quot;,SPHEROID[&amp;quot;WGS_1972&amp;quot;,6378135.0,298.26]],PRIMEM[&amp;quot;Greenwich&amp;quot;,0.0],UNIT[&amp;quot;Degree&amp;quot;,0.0174532925199433]],PROJECTION[&amp;quot;Lambert_Conformal_Conic&amp;quot;],PARAMETER[&amp;quot;false_easting&amp;quot;,0.0],PARAMETER[&amp;quot;false_northing&amp;quot;,0.0],PARAMETER[&amp;quot;central_meridian&amp;quot;,159.0],PARAMETER[&amp;quot;standard_parallel_1&amp;quot;,-76.6666667],PARAMETER[&amp;quot;standard_parallel_2&amp;quot;,-79.3333333],PARAMETER[&amp;quot;latitude_of_origin&amp;quot;,-78.0],UNIT[&amp;quot;Meter&amp;quot;,1.0]]&lt;/WKT&gt;&lt;XOrigin&gt;-33494100&lt;/XOrigin&gt;&lt;YOrigin&gt;-34775400&lt;/YOrigin&gt;&lt;XYScale&gt;134459490.69748089&lt;/XYScale&gt;&lt;ZOrigin&gt;-100000&lt;/ZOrigin&gt;&lt;ZScale&gt;10000&lt;/ZScale&gt;&lt;MOrigin&gt;-100000&lt;/MOrigin&gt;&lt;MScale&gt;10000&lt;/MScale&gt;&lt;XYTolerance&gt;0.001&lt;/XYTolerance&gt;&lt;ZTolerance&gt;0.001&lt;/ZTolerance&gt;&lt;MTolerance&gt;0.001&lt;/MTolerance&gt;&lt;HighPrecision&gt;true&lt;/HighPrecision&gt;&lt;/ProjectedCoordinateSystem&gt;</peXml></coordRef><RasterProperties><General><PixelDepth Sync="TRUE">16</PixelDepth><HasColormap Sync="TRUE">FALSE</HasColormap><CompressionType Sync="TRUE">LZW</CompressionType><NumBands Sync="TRUE">3</NumBands><Format Sync="TRUE">TIFF</Format><HasPyramids Sync="TRUE">TRUE</HasPyramids><SourceType Sync="TRUE">continuous</SourceType><PixelType Sync="TRUE">unsigned integer</PixelType><NoDataValue Sync="TRUE">256</NoDataValue></General></RasterProperties><lineage><Process ToolSource="c:\program files (x86)\arcgis\desktop10.1\ArcToolbox\Toolboxes\Data Management Tools.tbx\Clip" Date="20130312" Time="120131">Clip "Y:/sde/maps/public/antarctica/usgs/02\geo\Webb Lake.tif" "24164.4507052759 54982.1383721926 49274.5147960447 83501.1045182403" "Y:\sde\maps\public\antarctica\usgs\02\trimWebb Lake.tif" "Y:/sde/maps/public/antarctica/usgs/02\extent\Webb Lake.shp" 256 ClippingGeometry</Process></lineage></DataProperties><SyncDate>20130312</SyncDate><SyncTime>12012800</SyncTime><ModDate>20130312</ModDate><ModTime>12012800</ModTime></Esri><dataIdInfo><envirDesc Sync="TRUE">Microsoft Windows 7 Version 6.1 (Build 7601) Service Pack 1; Esri ArcGIS 10.1.1.3143</envirDesc><dataLang><languageCode value="eng" Sync="TRUE"></languageCode><countryCode value="USA" Sync="TRUE"></countryCode></dataLang><idCitation><resTitle Sync="TRUE">trimWebb Lake.tif</resTitle><presForm><PresFormCd value="005" Sync="TRUE"></PresFormCd></presForm></idCitation><spatRpType><SpatRepTypCd value="002" Sync="TRUE"></SpatRepTypCd></spatRpType><dataExt><geoEle><GeoBndBox esriExtentType="search"><exTypeCode Sync="TRUE">1</exTypeCode><westBL Sync="TRUE">159.980555</westBL><eastBL Sync="TRUE">161.039609</eastBL><northBL Sync="TRUE">-77.244314</northBL><southBL Sync="TRUE">-77.505574</southBL></GeoBndBox></geoEle></dataExt></dataIdInfo><mdLang><languageCode value="eng" Sync="TRUE"></languageCode><countryCode value="USA" Sync="TRUE"></countryCode></mdLang><mdChar><CharSetCd value="004" Sync="TRUE"></CharSetCd></mdChar><distInfo><distFormat><formatName Sync="TRUE">Raster Dataset</formatName></distFormat></distInfo><mdHrLv><ScopeCd value="005" Sync="TRUE"></ScopeCd></mdHrLv><mdHrLvName Sync="TRUE">dataset</mdHrLvName><refSysInfo><RefSystem><refSysID><identCode code="0" Sync="TRUE"></identCode></refSysID></RefSystem></refSysInfo><spatRepInfo><Georect><cellGeo><CellGeoCd Sync="TRUE" value="002"></CellGeoCd></cellGeo><numDims Sync="TRUE">2</numDims><tranParaAv Sync="TRUE">1</tranParaAv><chkPtAv Sync="TRUE">0</chkPtAv><cornerPts><pos Sync="TRUE">24161.684085 54978.768236</pos></cornerPts><cornerPts><pos Sync="TRUE">24161.684085 83504.947292</pos></cornerPts><cornerPts><pos Sync="TRUE">49279.499901 83504.947292</pos></cornerPts><cornerPts><pos Sync="TRUE">49279.499901 54978.768236</pos></cornerPts><centerPt><pos Sync="TRUE">36720.591993 69241.857764</pos></centerPt><axisDimension type="002"><dimSize Sync="TRUE">4827</dimSize><dimResol><value Sync="TRUE" uom="Meter">5.203608</value></dimResol></axisDimension><axisDimension type="001"><dimSize Sync="TRUE">5482</dimSize><dimResol><value Sync="TRUE" uom="Meter">5.203608</value></dimResol></axisDimension><ptInPixel><PixOrientCd Sync="TRUE" value="001"></PixOrientCd></ptInPixel></Georect></spatRepInfo><contInfo><ImgDesc><contentTyp><ContentTypCd Sync="TRUE" value="001"></ContentTypCd></contentTyp><covDim><Band><dimDescrp Sync="TRUE">Band_1</dimDescrp><bitsPerVal Sync="TRUE">16</bitsPerVal><valUnit><UOM type="length"></UOM></valUnit></Band><Band><dimDescrp Sync="TRUE">Band_2</dimDescrp><bitsPerVal Sync="TRUE">16</bitsPerVal><valUnit><UOM type="length"></UOM></valUnit></Band><Band><dimDescrp Sync="TRUE">Band_3</dimDescrp><bitsPerVal Sync="TRUE">16</bitsPerVal><valUnit><UOM type="length"></UOM></valUnit></Band></covDim></ImgDesc></contInfo><mdDateSt Sync="TRUE">20130312</mdDateSt></metadata>
