<VRTDataset rasterXSize="160005" rasterYSize="120005">
  <SRS>PROJCS["WGS_1984_USGS_Transantarctic_Mountains",GEOGCS["WGS 84",DATUM["WGS_1984",SPHEROID["WGS 84",6378137,298.257223563,AUTHORITY["EPSG","7030"]],AUTHORITY["EPSG","6326"]],PRIMEM["Greenwich",0],UNIT["degree",0.0174532925199433],AUTHORITY["EPSG","4326"]],PROJECTION["Lambert_Conformal_Conic_2SP"],PARAMETER["standard_parallel_1",-76.66666666666667],PARAMETER["standard_parallel_2",-79.33333333333333],PARAMETER["latitude_of_origin",-78],PARAMETER["central_meridian",162],PARAMETER["false_easting",0],PARAMETER["false_northing",0],UNIT["metre",1,AUTHORITY["EPSG","9001"]]]</SRS>
  <GeoTransform>-4.5002500000000000e+004, 1.0000000000000000e+000, 0.0000000000000000e+000, 8.8002500000000000e+004, 0.0000000000000000e+000,-1.0000000000000000e+000</GeoTransform>
  <VRTRasterBand dataType="Float32" band="1">
    <NoDataValue>1.701410009187828e+038</NoDataValue>
    <ColorInterp>Gray</ColorInterp>
    <ComplexSource>
      <SourceFilename relativeToVRT="1">NCALM_DV_LiDAR_AsgardRange_West_1m.tif</SourceFilename>
      <SourceBand>1</SourceBand>
      <SourceProperties RasterXSize="26501" RasterYSize="6005" DataType="Float32" BlockXSize="128" BlockYSize="128" />
      <SrcRect xOff="0" yOff="0" xSize="26501" ySize="6005" />
      <DstRect xOff="9504" yOff="45000" xSize="26501" ySize="6005" />
      <NODATA>1.701410009187828e+038</NODATA>
    </ComplexSource>
    <ComplexSource>
      <SourceFilename relativeToVRT="1">NCALM_DV_LiDAR_Beacon_Valley_1m.tif</SourceFilename>
      <SourceBand>1</SourceBand>
      <SourceProperties RasterXSize="26005" RasterYSize="28005" DataType="Float32" BlockXSize="128" BlockYSize="128" />
      <SrcRect xOff="0" yOff="0" xSize="26005" ySize="28005" />
      <DstRect xOff="0" yOff="58000" xSize="26005" ySize="28005" />
      <NODATA>1.701410009187828e+038</NODATA>
    </ComplexSource>
    <ComplexSource>
      <SourceFilename relativeToVRT="1">NCALM_DV_LiDAR_CapeRoydsEvans_1m.tif</SourceFilename>
      <SourceBand>1</SourceBand>
      <SourceProperties RasterXSize="12005" RasterYSize="19005" DataType="Float32" BlockXSize="128" BlockYSize="128" />
      <SrcRect xOff="0" yOff="0" xSize="12005" ySize="19005" />
      <DstRect xOff="142000" yOff="36000" xSize="12005" ySize="19005" />
      <NODATA>1.701410009187828e+038</NODATA>
    </ComplexSource>
    <ComplexSource>
      <SourceFilename relativeToVRT="1">NCALM_DV_LiDAR_DentonHills_North_1m.tif</SourceFilename>
      <SourceBand>1</SourceBand>
      <SourceProperties RasterXSize="24005" RasterYSize="28005" DataType="Float32" BlockXSize="128" BlockYSize="128" />
      <SrcRect xOff="0" yOff="0" xSize="24005" ySize="28005" />
      <DstRect xOff="83000" yOff="69000" xSize="24005" ySize="28005" />
      <NODATA>1.701410009187828e+038</NODATA>
    </ComplexSource>
    <ComplexSource>
      <SourceFilename relativeToVRT="1">NCALM_DV_LiDAR_DentonHills_South_1m.tif</SourceFilename>
      <SourceBand>1</SourceBand>
      <SourceProperties RasterXSize="24005" RasterYSize="23005" DataType="Float32" BlockXSize="128" BlockYSize="128" />
      <SrcRect xOff="0" yOff="0" xSize="24005" ySize="23005" />
      <DstRect xOff="79000" yOff="97000" xSize="24005" ySize="23005" />
      <NODATA>1.701410009187828e+038</NODATA>
    </ComplexSource>
    <ComplexSource>
      <SourceFilename relativeToVRT="1">NCALM_DV_LiDAR_McMurdoStation_1m.tif</SourceFilename>
      <SourceBand>1</SourceBand>
      <SourceProperties RasterXSize="7005" RasterYSize="10005" DataType="Float32" BlockXSize="128" BlockYSize="128" />
      <SrcRect xOff="0" yOff="0" xSize="7005" ySize="10005" />
      <DstRect xOff="153000" yOff="69000" xSize="7005" ySize="10005" />
      <NODATA>1.701410009187828e+038</NODATA>
    </ComplexSource>
    <ComplexSource>
      <SourceFilename relativeToVRT="1">NCALM_DV_LiDAR_Northern_DV_Middle_1m.tif</SourceFilename>
      <SourceBand>1</SourceBand>
      <SourceProperties RasterXSize="57005" RasterYSize="15005" DataType="Float32" BlockXSize="128" BlockYSize="128" />
      <SrcRect xOff="0" yOff="0" xSize="57005" ySize="15005" />
      <DstRect xOff="13000" yOff="18000" xSize="57005" ySize="15005" />
      <NODATA>1.701410009187828e+038</NODATA>
    </ComplexSource>
    <ComplexSource>
      <SourceFilename relativeToVRT="1">NCALM_DV_LiDAR_Northern_DV_North_1m.tif</SourceFilename>
      <SourceBand>1</SourceBand>
      <SourceProperties RasterXSize="51005" RasterYSize="18005" DataType="Float32" BlockXSize="128" BlockYSize="128" />
      <SrcRect xOff="0" yOff="0" xSize="51005" ySize="18005" />
      <DstRect xOff="7000" yOff="0" xSize="51005" ySize="18005" />
      <NODATA>1.701410009187828e+038</NODATA>
    </ComplexSource>
    <ComplexSource>
      <SourceFilename relativeToVRT="1">NCALM_DV_LiDAR_Northern_DV_South_1m.tif</SourceFilename>
      <SourceBand>1</SourceBand>
      <SourceProperties RasterXSize="49005" RasterYSize="11005" DataType="Float32" BlockXSize="128" BlockYSize="128" />
      <SrcRect xOff="0" yOff="0" xSize="49005" ySize="11005" />
      <DstRect xOff="11000" yOff="32000" xSize="49005" ySize="11005" />
      <NODATA>1.701410009187828e+038</NODATA>
    </ComplexSource>
    <ComplexSource>
      <SourceFilename relativeToVRT="1">NCALM_DV_LiDAR_Pegasus_1m.tif</SourceFilename>
      <SourceBand>1</SourceBand>
      <SourceProperties RasterXSize="15005" RasterYSize="14005" DataType="Float32" BlockXSize="128" BlockYSize="128" />
      <SrcRect xOff="0" yOff="0" xSize="15005" ySize="14005" />
      <DstRect xOff="145000" yOff="82000" xSize="15005" ySize="14005" />
      <NODATA>1.701410009187828e+038</NODATA>
    </ComplexSource>
    <ComplexSource>
      <SourceFilename relativeToVRT="1">NCALM_DV_LiDAR_TaylorValley_East_1m.tif</SourceFilename>
      <SourceBand>1</SourceBand>
      <SourceProperties RasterXSize="22005" RasterYSize="23005" DataType="Float32" BlockXSize="128" BlockYSize="128" />
      <SrcRect xOff="0" yOff="0" xSize="22005" ySize="23005" />
      <DstRect xOff="68000" yOff="31000" xSize="22005" ySize="23005" />
      <NODATA>1.701410009187828e+038</NODATA>
    </ComplexSource>
    <ComplexSource>
      <SourceFilename relativeToVRT="1">NCALM_DV_LiDAR_TaylorValley_Middle_1m.tif</SourceFilename>
      <SourceBand>1</SourceBand>
      <SourceProperties RasterXSize="22005" RasterYSize="24005" DataType="Float32" BlockXSize="128" BlockYSize="128" />
      <SrcRect xOff="0" yOff="0" xSize="22005" ySize="24005" />
      <DstRect xOff="46000" yOff="41000" xSize="22005" ySize="24005" />
      <NODATA>1.701410009187828e+038</NODATA>
    </ComplexSource>
    <ComplexSource>
      <SourceFilename relativeToVRT="1">NCALM_DV_LiDAR_TaylorValley_West_1m.tif</SourceFilename>
      <SourceBand>1</SourceBand>
      <SourceProperties RasterXSize="26005" RasterYSize="20005" DataType="Float32" BlockXSize="128" BlockYSize="128" />
      <SrcRect xOff="0" yOff="0" xSize="26005" ySize="20005" />
      <DstRect xOff="20000" yOff="52000" xSize="26005" ySize="20005" />
      <NODATA>1.701410009187828e+038</NODATA>
    </ComplexSource>
  </VRTRasterBand>
</VRTDataset>
